BEGIN:VCALENDAR
VERSION:2.0
PRODID:-//ChamberMaster//Event Calendar 2.0//EN
METHOD:PUBLISH
X-PUBLISHED-TTL:P3D
REFRESH-INTERVAL:P3D
CALSCALE:GREGORIAN
BEGIN:VEVENT
DTSTART;VALUE=DATE:19990421
DTEND;VALUE=DATE:19990422
TRANSP:TRANSPARENT
X-MICROSOFT-CDO-ALLDAYEVENT:TRUE
SUMMARY:Secretary Appreciation Day 1999
DESCRIPTION:
X-ALT-DESC;FMTTYPE=text/html:
LOCATION:Sheraton Grand New Bern
UID:e.2120.2
SEQUENCE:3
DTSTAMP:20260422T071919Z
URL:http://newbernchamber.sampleorg.com/events/details/secretary-appreciation-day-1999-04-21-1999-2
END:VEVENT

END:VCALENDAR
